BEGIN:VCALENDAR
VERSION:2.0
PRODID:-//Gaming &amp; Caux - ECPv6.15.11//NONSGML v1.0//EN
CALSCALE:GREGORIAN
METHOD:PUBLISH
X-WR-CALNAME:Gaming &amp; Caux
X-ORIGINAL-URL:https://gamingcaux.fr
X-WR-CALDESC:Évènements pour Gaming &amp; Caux
REFRESH-INTERVAL;VALUE=DURATION:PT1H
X-Robots-Tag:noindex
X-PUBLISHED-TTL:PT1H
BEGIN:VTIMEZONE
TZID:Europe/Paris
BEGIN:DAYLIGHT
TZOFFSETFROM:+0100
TZOFFSETTO:+0200
TZNAME:CEST
DTSTART:20250330T010000
END:DAYLIGHT
BEGIN:STANDARD
TZOFFSETFROM:+0200
TZOFFSETTO:+0100
TZNAME:CET
DTSTART:20251026T010000
END:STANDARD
BEGIN:DAYLIGHT
TZOFFSETFROM:+0100
TZOFFSETTO:+0200
TZNAME:CEST
DTSTART:20260329T010000
END:DAYLIGHT
BEGIN:STANDARD
TZOFFSETFROM:+0200
TZOFFSETTO:+0100
TZNAME:CET
DTSTART:20261025T010000
END:STANDARD
BEGIN:DAYLIGHT
TZOFFSETFROM:+0100
TZOFFSETTO:+0200
TZNAME:CEST
DTSTART:20270328T010000
END:DAYLIGHT
BEGIN:STANDARD
TZOFFSETFROM:+0200
TZOFFSETTO:+0100
TZNAME:CET
DTSTART:20271031T010000
END:STANDARD
END:VTIMEZONE
BEGIN:VEVENT
DTSTART;TZID=Europe/Paris:20260505T193000
DTEND;TZID=Europe/Paris:20260505T234500
DTSTAMP:20260420T000544
CREATED:20260409T215231Z
LAST-MODIFIED:20260415T202428Z
UID:10000344-1778009400-1778024700@gamingcaux.fr
SUMMARY:MTG Avant-Première Strixhaven
DESCRIPTION:🚀 Plonge dans la magie avec l’Avant-Première de Magic the Gathering : Les Secrets de Strixhaven – Guerre de Clan ! Viens découvrir la toute nouvelle extension et choisis ton clan parmi les 5 proposés pour être prêt à dominer le champ de bataille. \nCette soirée hors du commun par MizouTCG à Caux dans l’Hérault te propose un format Avant-Première où chaque partie compte. Prépare-toi à un défi palpitant et stratégique. Au fil des victoires\, tu pourras piocher des cartes rares issues de deux boosters collectors ouverts spécialement pour l’occasion : le top des surprises garanties ! \nLe tout se déroule dans une ambiance conviviale à la Salle du Peuple\, entre Béziers et Agde\, parfait pour se retrouver entre passionnés du 34720. Que tu sois un habitué de MTG ou un curieux\, l’événement offre un moment intense à partager ce mardi soir. \n📍 Infos pratiques\n\n📅 Date : 5 mai 2026 à 19h30\n📍 Lieu : Salle du Peuple\, rue Pierre Pascal\, 34720 Caux\n🎯 Niveau : Tous niveaux\, débutants bienvenus\n💰 Participation : 29€\n🎮 Matériel : Pack et terrains fournies\n👥 Places : 12 places disponibles\n\n        \n            \n                            \n                                            \n                            \n                                                                    🙌\n                                                                Michael                            \n                                                    \n                                            \n                            \n                                                                    🎉\n                                                                Christian et Antony                            \n                                                    \n                                            \n                            \n                                                                    😎\n                                                                Christian et Antony                            \n                                                    \n                                            \n                            \n                                                                    🙌\n                                                                Valentin                            \n                                                    \n                                            \n                            \n                                                                    😊\n                                                                César                            \n                                                    \n                                            \n                            \n                                                                    😀\n                                                                Aurelien                            \n                                                    \n                                            \n                            \n                                                                    😎\n                                                                Laurent                            \n                                                    \n                                            \n                            \n                                                                    😃\n                                                                Kurt                            \n                                                    \n                                            \n                            \n                                                                    😀\n                                                                Julien                            \n                                                    \n                                    \n\n                \n                    9 participants
URL:https://gamingcaux.fr/event/mtg-avant-premiere-strixhaven-caux/
LOCATION:Salle du Peuple\, Salle du Peuple\, Rue Pierre Pascal\, Caux\, 34720\, France
CATEGORIES:Événements Spéciaux,Jeux de Carte (TCG),Magic the Gathering,🏆 Tournois
ATTACH;FMTTYPE=image/webp:https://gamingcaux.fr/wp-content/uploads/2026/04/mtg-secret-of-strixhaven-ap-club-herault.webp
ORGANIZER;CN="MizouTCG":MAILTO:mizoutcg34@gmail.com
END:VEVENT
END:VCALENDAR